BEGIN:VCALENDAR
VERSION:2.0
PRODID:-//wp-events-plugin.com//7.2.2.1//EN
BEGIN:VEVENT
UID:0-44@gzm.org
DTSTART;TZID=Europe/Berlin:20260530T100000
DTEND;TZID=Europe/Berlin:20260530T130000
DTSTAMP:20260407T073841Z
URL:https://www.gzm.org/fortbildungen/orale-dysbiose-aufbaukurs-3-schwange
 rschaftskomplikationen/
SUMMARY:Orale Dysbiose - Aufbaukurs III: Schwangerschaftskomplikationen
DESCRIPTION:[vc_row type="in_container" full_screen_row_position="middle" c
 olumn_margin="default" column_direction="default" column_direction_tablet=
 "default" column_direction_phone="default" scene_position="center" top_pad
 ding="5%" constrain_group_1="yes" bottom_padding="5%" top_padding_tablet="
 10%" constrain_group_3="yes" bottom_padding_tablet="10%" top_padding_phone
 ="15%" constrain_group_5="yes" bottom_padding_phone="15%" text_color="dark
 " text_align="left" row_border_radius="none" row_border_radius_applies="bg
 " overflow="visible" overlay_strength="0.3" gradient_direction="left_to_ri
 ght" shape_divider_position="bottom" bg_image_animation="none" gradient_ty
 pe="default" shape_type=""][vc_column column_padding="no-extra-padding" co
 lumn_padding_tablet="inherit" column_padding_phone="inherit" column_paddin
 g_position="all" column_element_direction_desktop="default" column_element
 _spacing="default" desktop_text_alignment="default" tablet_text_alignment=
 "default" phone_text_alignment="default" background_color_opacity="1" back
 ground_hover_color_opacity="1" column_backdrop_filter="none" column_shadow
 ="none" column_border_radius="none" column_link_target="_self" column_posi
 tion="default" gradient_direction="left_to_right" overlay_strength="0.3" w
 idth="7/12" tablet_width_inherit="default" animation_type="default" bg_ima
 ge_animation="none" border_type="simple" column_border_width="none" column
 _border_style="solid" column_padding_type="default" gradient_type="default
 " offset="vc_col-lg-7"][vc_row_inner column_margin="default" column_direct
 ion="default" column_direction_tablet="default" column_direction_phone="de
 fault" text_align="left" row_position="default" row_position_tablet="inher
 it" row_position_phone="inherit" overflow="visible" pointer_events="all"][
 vc_column_inner column_padding="no-extra-padding" column_padding_tablet="i
 nherit" column_padding_phone="inherit" column_padding_position="all" colum
 n_element_direction_desktop="default" column_element_spacing="default" des
 ktop_text_alignment="default" tablet_text_alignment="default" phone_text_a
 lignment="default" background_color_opacity="1" background_hover_color_opa
 city="1" column_backdrop_filter="none" column_shadow="none" column_border_
 radius="none" column_link_target="_self" overflow="visible" gradient_direc
 tion="left_to_right" overlay_strength="0.3" width="1/1" tablet_width_inher
 it="default" animation_type="default" bg_image_animation="none" border_typ
 e="simple" column_border_width="none" column_border_style="solid"][vc_cust
 om_heading source="post_title" use_theme_fonts="yes" css=""][/vc_column_in
 ner][/vc_row_inner][vc_row_inner column_margin="default" column_direction=
 "default" column_direction_tablet="default" column_direction_phone="defaul
 t" text_align="left" row_position="default" row_position_tablet="inherit" 
 row_position_phone="inherit" overflow="visible" pointer_events="all"][vc_c
 olumn_inner column_padding="no-extra-padding" column_padding_tablet="inher
 it" column_padding_phone="inherit" column_padding_position="all" column_el
 ement_direction_desktop="default" column_element_spacing="default" desktop
 _text_alignment="default" tablet_text_alignment="default" phone_text_align
 ment="default" background_color_opacity="1" background_hover_color_opacity
 ="1" column_backdrop_filter="none" column_shadow="none" column_border_radi
 us="none" column_link_target="_self" overflow="visible" gradient_direction
 ="left_to_right" overlay_strength="0.3" width="1/1" tablet_width_inherit="
 default" animation_type="default" bg_image_animation="none" border_type="s
 imple" column_border_width="none" column_border_style="solid"][split_line_
 heading animation_type="line-reveal-by-space" font_style="h4" text_color="
 #90b54b" line_reveal_by_space_text_effect="default" content_alignment="def
 ault" mobile_content_alignment="inherit" link_target="_self" text_content=
 "Block 4 der Fortbildungsreihe Orale Dysbiose" text_direction="default"][/
 split_line_heading][/vc_column_inner][/vc_row_inner][vc_row_inner column_m
 argin="default" column_direction="default" column_direction_tablet="defaul
 t" column_direction_phone="default" text_align="left" row_position="defaul
 t" row_position_tablet="inherit" row_position_phone="inherit" overflow="vi
 sible" pointer_events="all"][vc_column_inner column_padding="no-extra-padd
 ing" column_padding_tablet="inherit" column_padding_phone="inherit" column
 _padding_position="all" column_element_direction_desktop="default" column_
 element_spacing="default" desktop_text_alignment="default" tablet_text_ali
 gnment="default" phone_text_alignment="default" background_color_opacity="
 1" background_hover_color_opacity="1" column_backdrop_filter="none" column
 _shadow="none" column_border_radius="none" column_link_target="_self" over
 flow="visible" gradient_direction="left_to_right" overlay_strength="0.3" w
 idth="1/1" tablet_width_inherit="default" animation_type="default" bg_imag
 e_animation="none" border_type="simple" column_border_width="none" column_
 border_style="solid"][text-with-icon icon_type="image_icon" icon_image="35
 7"]Der Aufbaukurs III thematisiert die Rolle der Mundgesundheit im Verlauf
  einer Schwangerschaft. Ein gestörtes orales Mikrobiom kann systemische E
 ntzündungen fördern\, die mit einem erhöhten Risiko für Frühgeburten\
 , Präeklampsie und niedriges Geburtsgewicht in Verbindung stehen.\n\nIm t
 heoretischen Teil werden die pathophysiologischen Zusammenhänge zwischen 
 oraler Dysbiose und schwangerschaftsassoziierten Komplikationen erläutert
 . Die hormonellen Veränderungen während der Schwangerschaft und deren Ei
 nfluss auf das orale Mikrobiom werden ebenso berücksichtigt wie die Bedeu
 tung parodontaler Erkrankungen in dieser besonderen Lebensphase.\n\nDer pr
 aktische Teil stellt mikrobiologische Diagnostikverfahren vor\, die bei Sc
 hwangeren sinnvoll eingesetzt werden können\, und zeigt präventive Strat
 egien auf. Dazu zählen unter anderem die Anwendung gezielter Mundhygieneb
 eratung und interdisziplinäre Betreuungskonzepte in Zusammenarbeit mit Gy
 näkolog:innen und Hebammen.[/text-with-icon][/vc_column_inner][/vc_row_in
 ner][vc_row_inner column_margin="default" column_direction="default" colum
 n_direction_tablet="default" column_direction_phone="default" text_align="
 left" row_position="default" row_position_tablet="inherit" row_position_ph
 one="inherit" overflow="visible" pointer_events="all"][vc_column_inner col
 umn_padding="no-extra-padding" column_padding_tablet="inherit" column_padd
 ing_phone="inherit" column_padding_position="all" column_element_direction
 _desktop="default" column_element_spacing="default" desktop_text_alignment
 ="default" tablet_text_alignment="default" phone_text_alignment="default" 
 background_color_opacity="1" background_hover_color_opacity="1" column_bac
 kdrop_filter="none" column_shadow="none" column_border_radius="none" colum
 n_link_target="_self" overflow="visible" gradient_direction="left_to_right
 " overlay_strength="0.3" width="1/1" tablet_width_inherit="default" animat
 ion_type="default" bg_image_animation="none" border_type="simple" column_b
 order_width="none" column_border_style="solid"][split_line_heading animati
 on_type="line-reveal-by-space" font_style="h3" line_reveal_by_space_text_e
 ffect="default" content_alignment="default" mobile_content_alignment="inhe
 rit" link_target="_self" text_content="Referenten"][/split_line_heading][v
 c_column_text css="" text_direction="default"]Ina Zielke\n\nRobbin Zielke[
 /vc_column_text][/vc_column_inner][/vc_row_inner][gravityform id="3" title
 ="false" description="false" ajax="false"][/vc_column][vc_column column_pa
 dding="padding-4-percent" column_padding_tablet="inherit" column_padding_p
 hone="inherit" column_padding_position="all" column_element_direction_desk
 top="default" column_element_spacing="default" desktop_text_alignment="def
 ault" tablet_text_alignment="default" phone_text_alignment="default" backg
 round_color="#ffffff" background_color_opacity="1" background_hover_color_
 opacity="1" column_backdrop_filter="none" column_shadow="none" column_bord
 er_radius="15px" column_link_target="_self" column_position="default" grad
 ient_direction="left_to_right" overlay_strength="0.3" width="1/3" tablet_w
 idth_inherit="default" animation_type="default" bg_image_animation="none" 
 border_type="simple" column_border_width="none" column_border_style="solid
 " column_padding_type="default" gradient_type="default" offset="vc_col-lg-
 offset-1 vc_col-lg-4 vc_col-md-offset-1 vc_col-md-4"][vc_row_inner column_
 margin="default" column_direction="default" column_direction_tablet="defau
 lt" column_direction_phone="default" text_align="left" row_position="defau
 lt" row_position_tablet="inherit" row_position_phone="inherit" overflow="v
 isible" pointer_events="all"][vc_column_inner column_padding="no-extra-pad
 ding" column_padding_tablet="inherit" column_padding_phone="inherit" colum
 n_padding_position="all" column_element_direction_desktop="default" column
 _element_spacing="default" desktop_text_alignment="default" tablet_text_al
 ignment="default" phone_text_alignment="default" background_color_opacity=
 "1" background_hover_color_opacity="1" column_backdrop_filter="none" colum
 n_shadow="none" column_border_radius="none" column_link_target="_self" ove
 rflow="visible" gradient_direction="left_to_right" overlay_strength="0.3" 
 width="1/1" tablet_width_inherit="default" animation_type="default" bg_ima
 ge_animation="none" border_type="simple" column_border_width="none" column
 _border_style="solid"][split_line_heading animation_type="line-reveal-by-s
 pace" font_style="h4" line_reveal_by_space_text_effect="default" content_a
 lignment="default" mobile_content_alignment="inherit" link_target="_self" 
 text_content="Veranstalter"][/split_line_heading][vc_column_text css="" te
 xt_direction="default"]GZM\, Hauptstraße 81\n42555 Velbert\n\nT +49 621 4
 824300\nM info@gzm.org[/vc_column_text][/vc_column_inner][/vc_row_inner][/
 vc_column][/vc_row][vc_row type="full_width_background" full_screen_row_po
 sition="middle" column_margin="default" column_direction="default" column_
 direction_tablet="default" column_direction_phone="default" scene_position
 ="center" bottom_padding="5%" bottom_padding_tablet="10%" bottom_padding_p
 hone="15%" text_color="dark" text_align="left" row_border_radius="none" ro
 w_border_radius_applies="bg" overflow="visible" overlay_strength="0.3" gra
 dient_direction="left_to_right" shape_divider_position="bottom" bg_image_a
 nimation="none" gradient_type="default" shape_type=""][vc_column column_pa
 dding="no-extra-padding" column_padding_tablet="inherit" column_padding_ph
 one="inherit" column_padding_position="all" column_element_direction_deskt
 op="default" column_element_spacing="default" desktop_text_alignment="defa
 ult" tablet_text_alignment="default" phone_text_alignment="default" backgr
 ound_color_opacity="1" background_hover_color_opacity="1" column_backdrop_
 filter="none" column_shadow="none" column_border_radius="none" column_link
 _target="_self" column_position="default" gradient_direction="left_to_righ
 t" overlay_strength="0.3" width="1/1" tablet_width_inherit="default" anima
 tion_type="default" bg_image_animation="none" border_type="simple" column_
 border_width="none" column_border_style="solid"][/vc_column][/vc_row]
ATTACH;FMTTYPE=image/jpeg:https://www.gzm.org/wp-content/uploads/2024/10/A
 dobeStock_480531419-scaled.webp
CATEGORIES:Curricula,Online-Seminare,Orale Dysbiose,Orale Dysbiose
LOCATION:Online\,  \,  \, 
X-APPLE-STRUCTURED-LOCATION;VALUE=URI;X-ADDRESS= \,  \, ;X-APPLE-RADIUS=100
 ;X-TITLE=Online:geo:0,0
END:VEVENT
BEGIN:VTIMEZONE
TZID:Europe/Berlin
X-LIC-LOCATION:Europe/Berlin
BEGIN:DAYLIGHT
DTSTART:20260329T030000
TZOFFSETFROM:+0100
TZOFFSETTO:+0200
TZNAME:CEST
END:DAYLIGHT
END:VTIMEZONE
END:VCALENDAR